BEGIN:VCALENDAR
VERSION:2.0
PRODID:-//wp-events-plugin.com//7.2.3.1//EN
TZID:Europe/Berlin
X-WR-TIMEZONE:Europe/Berlin
BEGIN:VEVENT
UID:222@jakobjentgens.de
DTSTART;TZID=Europe/Berlin:20260208T000000
DTEND;TZID=Europe/Berlin:20260208T000000
DTSTAMP:20260118T075643Z
URL:https://jakobjentgens.de/events/ensemble-sol-bei-jazz-visions-ruhr/
SUMMARY:Ensemble SOL bei Jazz Visions Ruhr
DESCRIPTION:(Bild: Ralf Silberkuhl)
ATTACH;FMTTYPE=image/jpeg:https://jakobjentgens.de/wp-content/uploads/2026
 /01/9126-scaled.jpg
END:VEVENT
BEGIN:VTIMEZONE
TZID:Europe/Berlin
X-LIC-LOCATION:Europe/Berlin
BEGIN:STANDARD
DTSTART:20251026T020000
TZOFFSETFROM:+0200
TZOFFSETTO:+0100
TZNAME:CET
END:STANDARD
END:VTIMEZONE
END:VCALENDAR