BEGIN:VCALENDAR
VERSION:2.0
PRODID:-//wp-events-plugin.com//7.2.3.1//EN
TZID:Europe/Berlin
X-WR-TIMEZONE:Europe/Berlin
BEGIN:VEVENT
UID:221@jakobjentgens.de
DTSTART;TZID=Europe/Berlin:20260129T184500
DTEND;TZID=Europe/Berlin:20260129T210000
DTSTAMP:20260118T075346Z
URL:https://jakobjentgens.de/events/labyrinth-des-hoerens-ausverkauft/
SUMMARY:Labyrinth des Hörens - AUSVERKAUFT
DESCRIPTION:\nJakob Jentgens\, Kathleen Wermke\, Stefan Schnell\nhr2-Hörfe
 st\n\n\n\n\nEinlass ab 29.01.2026 18:45 Uhr bis 29.01.2026 19:30 Uhr\n\n\n
 \n\n\nLassen Sie sich überraschen von einem Instrument voller Facetten un
 d Geschichten – dem Saxophon\; tauchen Sie ein in die Wunderwelt der Spr
 achentwicklung bei Babys\; und begeben Sie sich auf eine akustische Reise 
 zu vom Aussterben bedrohten Sprachen – mit spannenden Hörbeispielen.\n\
 nJAKOB JENTGENS studierte Saxophon und Improvisation an der Folkwang Unive
 rsität der Künste. In seinem Spiel kombiniert er eine ausgeprägte melod
 ische Sprache mit erweiterten Spieltechniken. Er interessiert sich für Sc
 hnittstellen zwischen Tanz\, Performance-Kunst\, Storytelling und Musik. M
 it seiner künstlerischen Arbeit möchte er Hörgewohnheiten erweitern und
  Begegnungsmomente schaffen.\n\nKATHLEEN WERMKE ist medizinische Anthropol
 ogin und Professorin an der Universität Würzburg und forscht zur frühki
 ndlichen Sprachentwicklung. Bekannt wurde sie etwa durch die Entdeckung\, 
 dass schon Neugeborene melodische Muster ihrer Umgebungssprache in ihrem S
 chreien zeigen. Ihre interdisziplinäre Arbeit trägt maßgeblich dazu bei
 \, die Grundlagen der menschlichen Kommunikation besser zu verstehen.\n\nS
 TEFAN SCHNELL arbeitet am Institut für Sprachevolutionswissenschaft an de
 r Universität Zürich. Er dokumentiert seit 2007 die Sprache Vera’a aus
  Nordvanuatu im Südpazifik. Zurzeit konzentriert sich seine Forschung auf
  den Vergleich von Sprachen anhand ihres täglichen mündlichen Gebrauchs.
  Mit Arnfrid Schenk hat er den „Atlas der vom Aussterben bedrohten Sprac
 hen“ geschrieben.\n\nVeranstalter: hr2-kultur und Kulturamt Wiesbaden\n\
 n\n\n
END:VEVENT
BEGIN:VTIMEZONE
TZID:Europe/Berlin
X-LIC-LOCATION:Europe/Berlin
BEGIN:STANDARD
DTSTART:20251026T020000
TZOFFSETFROM:+0200
TZOFFSETTO:+0100
TZNAME:CET
END:STANDARD
END:VTIMEZONE
END:VCALENDAR