BEGIN:VCALENDAR
VERSION:2.0
PRODID:-//wp-events-plugin.com//7.2.3.1//EN
TZID:Europe/Berlin
X-WR-TIMEZONE:Europe/Berlin
BEGIN:VEVENT
UID:238@jakobjentgens.de
DTSTART;TZID=Europe/Berlin:20260302T193000
DTEND;TZID=Europe/Berlin:20260302T210000
DTSTAMP:20260217T212340Z
URL:https://jakobjentgens.de/events/sketchbook-mit-dem-ensemble-sol/
SUMMARY:Sketchbook mit dem Ensemble SOL 
DESCRIPTION:Uhrzeit: 19:30 Uhr\n\nOrt: Insel e.V. Wuppertal\n\nEin Sommer
 abend in einem Café direkt am Fluss in Nordfrankreich\, eine Schmiede mit
  sprühenden Funken\, Bibliotheken\, Scheunen\, lichtdurchflutete Museen u
 nd schummrige Jazzclubs – an all diesen Orten haben wir in den letzten d
 rei Jahren zusammen gespielt\, mit Kontrabass\, Saxophon und Tanz. All die
 se Auftritte und die Menschen\, denen wir dort begegnet sind\, haben uns g
 eprägt und inspiriert. Daraus ist ein eigenes Repertoire aus Stücken\, S
 zenen und Spielen zwischen Musik\, Tanz und Performance gewachsen.\n\nWie 
 hört sich das an? Warm\, melodiös\, aber auch mal überraschend und schr
 äg\, empathisch und facettenreich. Am Kontrabass und Saxophon loten wir d
 ie klanglichen Möglichkeiten unserer Instrumente und des Zusammenspiels a
 us. Melodien aus Barock\, Klassik\, Jazz und Pop verweben wir mit freien I
 mprovisationen\, Klangexperimenten und eigenen Kompositionen zu musikalisc
 hen Geschichten. Und wie sieht das aus? Djamila verknüpft zeitgenössisch
 en Tanz und Schattenspiel mit den spezifischen Gegebenheiten des Raums. Im
  Zusammenspiel wird der Tanz zu visueller Musik und die Klänge zu hörbar
 en Bewegungen.\n\nWenn wir an einen neuen Ort kommen\, schöpfen wir aus d
 em Repertoire unserer gemeinsamen Erfahrungen und setzen daraus etwas Neue
 s zusammen. Das machen wir auch am 2. März in der INSEL. Doch dabei soll 
 es nicht bleiben. Im Anschluss öffnen wir den Prozess: Was Euch anspricht
 \, irritiert oder fehlt\, kann zum Ausgangspunkt für Neues werden. Bühne
 nbild\, Kostüme\, Texte\, Musik\, absurde Einfälle oder klare Wünsche 
 – schreibt Eure Ideen in unser Gästebuch oder sprecht mit uns. Am 29. J
 uni kommen wir zurück und zeigen\, was daraus entstanden ist."\n\nEine Ve
 ranstaltung der INSEL. Gefördert vom Kulturbüro der Stadt Wuppertal.\n\n
 mehr Infos\n \n\n&nbsp\;
ATTACH;FMTTYPE=image/jpeg:https://jakobjentgens.de/wp-content/uploads/2023
 /07/Entretemps-mit-Djamila-Polo_.jpg
END:VEVENT
BEGIN:VTIMEZONE
TZID:Europe/Berlin
X-LIC-LOCATION:Europe/Berlin
BEGIN:STANDARD
DTSTART:20251026T020000
TZOFFSETFROM:+0200
TZOFFSETTO:+0100
TZNAME:CET
END:STANDARD
END:VTIMEZONE
END:VCALENDAR